BEGIN:VCALENDAR
PRODID:-//eluceo/ical//2.0/EN
VERSION:2.0
CALSCALE:GREGORIAN
BEGIN:VEVENT
UID:3071e2feca42fc0ce15af67b1b7dbdd1
DTSTAMP:20260421T082815Z
LAST-MODIFIED:20251117T105316Z
SUMMARY:Belegt
DESCRIPTION:Belegt
DTSTART:20251226T150000
DTEND:20260104T090000
STATUS:CONFIRMED
END:VEVENT
BEGIN:VEVENT
UID:ef6a74c132497d0a1fdb6f51981bc9a7
DTSTAMP:20260421T082815Z
LAST-MODIFIED:20260129T160223Z
SUMMARY:Belegt
DESCRIPTION:Belegt
DTSTART:20260131T150000
DTEND:20260203T090000
STATUS:CONFIRMED
END:VEVENT
BEGIN:VEVENT
UID:991bee6086a37ceb206485e4edf8e6b9
DTSTAMP:20260421T082815Z
LAST-MODIFIED:20260212T180857Z
SUMMARY:Belegt
DESCRIPTION:Belegt
DTSTART:20260214T150000
DTEND:20260221T090000
STATUS:CONFIRMED
END:VEVENT
BEGIN:VEVENT
UID:b0290e881f5329fd58b3cc20cd865e9f
DTSTAMP:20260421T082815Z
LAST-MODIFIED:20260224T165420Z
SUMMARY:Belegt
DESCRIPTION:Belegt
DTSTART:20260221T150000
DTEND:20260226T090000
STATUS:CONFIRMED
END:VEVENT
BEGIN:VEVENT
UID:2b9a425259b4c3612e43780551f0aa0b
DTSTAMP:20260421T082815Z
LAST-MODIFIED:20260224T165401Z
SUMMARY:Belegt
DESCRIPTION:Belegt
DTSTART:20260226T150000
DTEND:20260228T090000
STATUS:CONFIRMED
END:VEVENT
BEGIN:VEVENT
UID:d35fa96a2913ab679b0b3bae63d78182
DTSTAMP:20260421T082815Z
LAST-MODIFIED:20260312T174311Z
SUMMARY:Belegt
DESCRIPTION:Belegt
DTSTART:20260312T150000
DTEND:20260317T090000
STATUS:CONFIRMED
END:VEVENT
BEGIN:VEVENT
UID:6425ec52d0eac46f16e7a42384a0908b
DTSTAMP:20260421T082815Z
LAST-MODIFIED:20260310T175534Z
SUMMARY:Belegt
DESCRIPTION:Belegt
DTSTART:20260323T150000
DTEND:20260327T090000
STATUS:CONFIRMED
END:VEVENT
BEGIN:VEVENT
UID:8cbfa5c8353dca7c79979cf7a51c8532
DTSTAMP:20260421T082815Z
LAST-MODIFIED:20250415T192535Z
SUMMARY:Belegt
DESCRIPTION:Belegt
DTSTART:20260327T150000
DTEND:20260412T080000
STATUS:CONFIRMED
END:VEVENT
BEGIN:VEVENT
UID:e4687836e6821e0f43f72deeac51f6b3
DTSTAMP:20260421T082815Z
LAST-MODIFIED:20260330T121921Z
SUMMARY:Belegt
DESCRIPTION:Belegt
DTSTART:20260420T140000
DTEND:20260427T080000
STATUS:CONFIRMED
END:VEVENT
BEGIN:VEVENT
UID:b16432e3dca347b948f74db1a69ad9b5
DTSTAMP:20260421T082815Z
LAST-MODIFIED:20260411T210245Z
SUMMARY:Belegt
DESCRIPTION:Belegt
DTSTART:20260511T140000
DTEND:20260515T080000
STATUS:CONFIRMED
END:VEVENT
BEGIN:VEVENT
UID:bb9c6cf01068d6336f075d3bb82eb7c8
DTSTAMP:20260421T082815Z
LAST-MODIFIED:20260107T200103Z
SUMMARY:Belegt
DESCRIPTION:Belegt
DTSTART:20260518T140000
DTEND:20260522T080000
STATUS:CONFIRMED
END:VEVENT
BEGIN:VEVENT
UID:04258e8adedf1378cc089fcab2475823
DTSTAMP:20260421T082815Z
LAST-MODIFIED:20251128T172953Z
SUMMARY:Belegt
DESCRIPTION:Belegt
DTSTART:20260601T140000
DTEND:20260610T080000
STATUS:CONFIRMED
END:VEVENT
BEGIN:VEVENT
UID:4ae8fde1ccffcaca4bfbbc4f7fe42609
DTSTAMP:20260421T082815Z
LAST-MODIFIED:20260405T153814Z
SUMMARY:Belegt
DESCRIPTION:Belegt
DTSTART:20260617T140000
DTEND:20260620T080000
STATUS:CONFIRMED
END:VEVENT
BEGIN:VEVENT
UID:20881f670e61a327f798544df902fa6a
DTSTAMP:20260421T082815Z
LAST-MODIFIED:20260405T212027Z
SUMMARY:Belegt
DESCRIPTION:Belegt
DTSTART:20260620T140000
DTEND:20260626T080000
STATUS:CONFIRMED
END:VEVENT
BEGIN:VEVENT
UID:34302402d8c3421ec71f63ef69b7cb80
DTSTAMP:20260421T082815Z
LAST-MODIFIED:20260221T200645Z
SUMMARY:Belegt
DESCRIPTION:Belegt
DTSTART:20260629T140000
DTEND:20260703T080000
STATUS:CONFIRMED
END:VEVENT
BEGIN:VEVENT
UID:f5fbc59f409f96d3da5058bcccfb0bf8
DTSTAMP:20260421T082815Z
LAST-MODIFIED:20250722T170226Z
SUMMARY:Belegt
DESCRIPTION:Belegt
DTSTART:20260704T140000
DTEND:20260713T080000
STATUS:CONFIRMED
END:VEVENT
BEGIN:VEVENT
UID:4e382505d19ae43777c4e1ad37d86f02
DTSTAMP:20260421T082815Z
LAST-MODIFIED:20250508T190205Z
SUMMARY:Belegt
DESCRIPTION:Belegt
DTSTART:20260713T140000
DTEND:20260723T080000
STATUS:CONFIRMED
END:VEVENT
BEGIN:VEVENT
UID:0efd73fd7d5ba62083905a1656a6c7bd
DTSTAMP:20260421T082815Z
LAST-MODIFIED:20260211T103633Z
SUMMARY:Belegt
DESCRIPTION:Belegt
DTSTART:20260724T140000
DTEND:20260731T080000
STATUS:CONFIRMED
END:VEVENT
BEGIN:VEVENT
UID:2b54ede09482f6b80000694e5f228de7
DTSTAMP:20260421T082815Z
LAST-MODIFIED:20260119T002822Z
SUMMARY:Belegt
DESCRIPTION:Belegt
DTSTART:20260731T140000
DTEND:20260824T080000
STATUS:CONFIRMED
END:VEVENT
BEGIN:VEVENT
UID:0bf0c45ce65c3dbcb33c311c10df0fed
DTSTAMP:20260421T082815Z
LAST-MODIFIED:20260103T163002Z
SUMMARY:Belegt
DESCRIPTION:Belegt
DTSTART:20260824T140000
DTEND:20260830T080000
STATUS:CONFIRMED
END:VEVENT
BEGIN:VEVENT
UID:0f99ae1497a3117d2b26b99cb6274e47
DTSTAMP:20260421T082815Z
LAST-MODIFIED:20250921T121728Z
SUMMARY:Belegt
DESCRIPTION:Belegt
DTSTART:20260830T140000
DTEND:20260909T080000
STATUS:CONFIRMED
END:VEVENT
BEGIN:VEVENT
UID:b919ae8abab44b99c2a65a914a5b54c5
DTSTAMP:20260421T082815Z
LAST-MODIFIED:20260120T232024Z
SUMMARY:Belegt
DESCRIPTION:Belegt
DTSTART:20260912T140000
DTEND:20260919T080000
STATUS:CONFIRMED
END:VEVENT
BEGIN:VEVENT
UID:db5ceef00db48c747d71077f88293e1b
DTSTAMP:20260421T082815Z
LAST-MODIFIED:20251206T175828Z
SUMMARY:Belegt
DESCRIPTION:Belegt
DTSTART:20261016T140000
DTEND:20261101T090000
STATUS:CONFIRMED
END:VEVENT
BEGIN:VEVENT
UID:07bf23c05ea9832a7e03ddad711c5caf
DTSTAMP:20260421T082815Z
LAST-MODIFIED:20260107T090629Z
SUMMARY:Belegt
DESCRIPTION:Belegt
DTSTART:20261102T150000
DTEND:20261106T090000
STATUS:CONFIRMED
END:VEVENT
BEGIN:VEVENT
UID:bdf8eed727e417ded34d84dc42a92bc5
DTSTAMP:20260421T082815Z
LAST-MODIFIED:20251201T154604Z
SUMMARY:Belegt
DESCRIPTION:Belegt
DTSTART:20261228T150000
DTEND:20270109T090000
STATUS:CONFIRMED
END:VEVENT
BEGIN:VEVENT
UID:565b6c0173d0f56466046cfa8a71706d
DTSTAMP:20260421T082815Z
LAST-MODIFIED:20260115T004530Z
SUMMARY:Belegt
DESCRIPTION:Belegt
DTSTART:20270321T150000
DTEND:20270404T080000
STATUS:CONFIRMED
END:VEVENT
BEGIN:VEVENT
UID:55d0697d4abfbca7de77a9ea7289d89f
DTSTAMP:20260421T082815Z
LAST-MODIFIED:20260118T210815Z
SUMMARY:Belegt
DESCRIPTION:Belegt
DTSTART:20270716T140000
DTEND:20270808T080000
STATUS:CONFIRMED
END:VEVENT
END:VCALENDAR
